BEGIN:VCALENDAR
VERSION:2.0
PRODID:-//AudioTheme 2.3.5
BEGIN:VEVENT
UID:urn:uuid:61cfc6f1-1a20-4a8f-b34f-dda2cbf0ae12
URL:https://nylonwound.com/concerts/2017-04-19/
DTSTART;TZID=GMT:20170419T160000
SUMMARY:Guitar Workshop
LOCATION:Port Richmond High School\, 85 St. Josephs Avenue\, Staten Island\, NY\, 10302
END:VEVENT
END:VCALENDAR
