BEGIN:VCALENDAR
VERSION:2.0
PRODID:-//AudioTheme 2.3.5
BEGIN:VEVENT
UID:urn:uuid:26ec58e7-3c3d-4f5e-bad1-6aba2b4b662c
URL:https://nylonwound.com/concerts/2017-04-24/
DTSTART;TZID=GMT:20170424T160000
SUMMARY:Guitar Workshop
LOCATION:Port Richmond High School\, 85 St. Josephs Avenue\, Staten Island\, NY\, 10302
END:VEVENT
END:VCALENDAR
