BEGIN:VCALENDAR
VERSION:2.0
PRODID:-//AudioTheme 2.3.5
BEGIN:VEVENT
UID:urn:uuid:0406a1af-c4e4-43be-93f1-2bcb95fbe2f6
URL:https://nylonwound.com/concerts/2017-05-01/
DTSTART;TZID=GMT:20170501T160000
SUMMARY:Guitar Workshop
LOCATION:Port Richmond High School\, 85 St. Josephs Avenue\, Staten Island\, NY\, 10302
END:VEVENT
END:VCALENDAR
