BEGIN:VCALENDAR
VERSION:2.0
PRODID:-//AudioTheme 2.3.5
BEGIN:VEVENT
UID:urn:uuid:d8e3cccf-af2a-4a6c-8104-95a1d7690b25
URL:https://nylonwound.com/concerts/carroll-gardens-library-book-fair-day/
DTSTART;TZID=GMT:20170520T160000
SUMMARY:Carroll Gardens Library (Book Fair Day!)
DESCRIPTION:Concert is from 12:00 p.m. to 3:00 p.m.
LOCATION:Carroll Gardens Library\, 396 Clinton Street\, Brooklyn\, NY\, 11231
END:VEVENT
END:VCALENDAR
