BEGIN:VCALENDAR
VERSION:2.0
PRODID:-//AudioTheme 2.3.5
BEGIN:VEVENT
UID:urn:uuid:4b1adabb-8cd8-41c2-8a6a-1709222d1376
URL:https://nylonwound.com/concerts/chatham-square-library/
DTSTART;TZID=GMT:20171021T180000
SUMMARY:Chatham Square Library
DESCRIPTION:Free Concert    <a href="http://nylonwound.com/wp-content/uploads/2017/08/NW-Program-2017-Chatham-Square-Library.pdf" target="_blank"> <strong>Concert Program</strong> </a>  
LOCATION:Chatham Square Library\, 33 East Broadway\, New York\, NY\, 10002
END:VEVENT
END:VCALENDAR
