BEGIN:VCALENDAR
VERSION:2.0
PRODID:-//AudioTheme 2.3.5
BEGIN:VEVENT
UID:urn:uuid:f31f860f-e0f6-48f0-b2db-3c6a6415b6da
URL:https://nylonwound.com/concerts/el-g-at-chatham-square-library/
DTSTART;TZID=GMT:20191102T180000
SUMMARY:El & G at Chatham Square Library
DESCRIPTION: An exciting program of Jazz Standards & Classical Arias
LOCATION:Chatham Square Library\, 33 East Broadway\, New York\, NY\, 10002
END:VEVENT
END:VCALENDAR
