BEGIN:VCALENDAR
VERSION:2.0
PRODID:-//AudioTheme 2.3.5
BEGIN:VEVENT
UID:urn:uuid:57d4dfbb-c49c-4da7-a22b-ea1ae403f413
URL:https://nylonwound.com/concerts/el-g-live/
DTSTART;TZID=GMT:20190218T230000
SUMMARY:El & G Live
LOCATION:Rockwood Music Hall\, 196 Allen Street\, New York\, NY\, 10002
END:VEVENT
END:VCALENDAR
