BEGIN:VCALENDAR
VERSION:2.0
PRODID:-//AudioTheme 2.3.5
BEGIN:VEVENT
UID:urn:uuid:0d28b5a0-0e02-4700-913c-c5f9c3b9e5ad
URL:https://nylonwound.com/concerts/el-g-palieo/
DTSTART;TZID=GMT:20190915T000000
SUMMARY:El & G: Palieo & Petanque on Minetta
LOCATION:Minetta Street\, Greenwich Village\, NYC
END:VEVENT
END:VCALENDAR
