BEGIN:VCALENDAR
VERSION:2.0
PRODID:-//AudioTheme 2.3.5
BEGIN:VEVENT
UID:urn:uuid:7f0ab30e-6e08-47b0-8bcc-41a66ca47182
URL:https://nylonwound.com/concerts/el-g-voices-and-guitar/
DTSTART;TZID=GMT:20191211T190000
SUMMARY:El & G: Voices and Guitar
DESCRIPTION:Brooklyn Public Library  Carroll Gardens Branch    <a href="http://nylonwound.com/wp-content/uploads/2019/12/El-G-Carroll-Gardens-Lib-program-12-11-19.jpg.pdf"> Concert Program</a>  
LOCATION:Carroll Gardens Library\, 396 Clinton Street\, Brooklyn\, NY\, 11231
END:VEVENT
END:VCALENDAR
