BEGIN:VCALENDAR
VERSION:2.0
PRODID:-//AudioTheme 2.3.5
BEGIN:VEVENT
UID:urn:uuid:b5728d09-e299-4357-a06f-82537876e5f0
URL:https://nylonwound.com/concerts/gig-534/
DTSTART;TZID=GMT:20181210T210000
SUMMARY:Nylon Wound at Tompkins Square Library
DESCRIPTION:<a href="http://nylonwound.com/wp-content/uploads/2018/11/NW-2nd-East-Village-Arts-Festival-2.pdf" target="_blank"> <strong>Click here to see Concert Program</strong> </a>
LOCATION:Tompkins Square Library\, 331 E 10th St\, New York\, NY\, USA\, 10009
END:VEVENT
END:VCALENDAR
