BEGIN:VCALENDAR
VERSION:2.0
PRODID:-//AudioTheme 2.3.5
BEGIN:VEVENT
UID:urn:uuid:a8b0f32f-a13d-4adf-acae-44677d7be06d
URL:https://nylonwound.com/concerts/nylon-wound-jefferson-market-library/
DTSTART;TZID=GMT:20170319T180000
SUMMARY:Jefferson Market Library
DESCRIPTION:<a href="http://nylonwound.com/wp-content/uploads/2017/03/NW-Program-2017-Jefferson-Market.pdf" target="_blank"> <strong>Concert Program</strong> </a>
LOCATION:Jefferson Market Library\, 425 Avenue of the Americas\, New York\, NY\, 10011
END:VEVENT
END:VCALENDAR
