BEGIN:VCALENDAR
VERSION:2.0
PRODID:-//AudioTheme 2.3.5
BEGIN:VEVENT
UID:urn:uuid:4252e46f-1a26-4d9e-b5ab-760a2938767f
URL:https://nylonwound.com/concerts/nylon-wound-mulberry-street-library/
DTSTART;TZID=GMT:20170415T180000
SUMMARY:Mulberry Street Library
DESCRIPTION:<a href="http://nylonwound.com/wp-content/uploads/2017/04/NW-Program-2017-Mulberry-Street-Lib.pdf">Concert Program</a>
LOCATION:Mulberry Street Library\, 10 Jersey Street\, New York\, NY\, 10012
END:VEVENT
END:VCALENDAR
