BEGIN:VCALENDAR
VERSION:2.0
PRODID:-//AudioTheme 2.3.5
BEGIN:VEVENT
UID:urn:uuid:d89e6de3-5fc6-4a1c-8143-b143781e3deb
URL:https://nylonwound.com/concerts/ocean-county-library-toms-river/
DTSTART;TZID=GMT:20170922T180000
SUMMARY:Ocean County Library - Toms River
DESCRIPTION:Free Concert  <a href="http://nylonwound.com/wp-content/uploads/2017/09/NW-Program-2017-Ocean-County-Library.pdf" target="_blank" rel="noopener">Concert Program</a>
LOCATION:Ocean County Library - Toms River Branch\, 101 Washington Street\, Toms River\, NJ\, 08753
END:VEVENT
END:VCALENDAR
