BEGIN:VCALENDAR
VERSION:2.0
PRODID:-//AudioTheme 2.3.5
BEGIN:VEVENT
UID:urn:uuid:ebab8a41-5be3-4e93-9f4b-55b0e93f832c
URL:https://nylonwound.com/concerts/park-slope-library/
DTSTART;TZID=GMT:20170405T223000
SUMMARY:Park Slope Library
DESCRIPTION:<a href="http://nylonwound.com/wp-content/uploads/2017/04/NW-Program-2017-Park-Slope-Library.pdf" target="_blank">Concert Program</a>
LOCATION:Park Slope LIbrary\, 431 6th Ave. Brooklyn\, NY\, Brooklyn\, NY
END:VEVENT
END:VCALENDAR
